BEGIN:VCALENDAR
VERSION:2.0
PRODID:-//Turnerschaft Innsbruck - ECPv6.0.1//NONSGML v1.0//EN
CALSCALE:GREGORIAN
METHOD:PUBLISH
X-WR-CALNAME:Turnerschaft Innsbruck
X-ORIGINAL-URL:https://www.ti-sports.tirol
X-WR-CALDESC:Events for Turnerschaft Innsbruck
REFRESH-INTERVAL;VALUE=DURATION:PT1H
X-Robots-Tag:noindex
X-PUBLISHED-TTL:PT1H
BEGIN:VTIMEZONE
TZID:UTC
BEGIN:STANDARD
TZOFFSETFROM:+0000
TZOFFSETTO:+0000
TZNAME:UTC
DTSTART:20260101T000000
END:STANDARD
END:VTIMEZONE
BEGIN:VEVENT
DTSTART;TZID=UTC:20260424T150000
DTEND;TZID=UTC:20260424T180000
DTSTAMP:20260424T120515
CREATED:20250201T100000Z
LAST-MODIFIED:20260211T000541Z
UID:9747-1777042800-1777053600@www.ti-sports.tirol
SUMMARY:Kennenlerndoppelturnier
DESCRIPTION:Lust auf Tennis und neue Bekanntschaften? \nAm 24. April 2026 laden wir euch um 15:00 Uhr zu einem lockeren Kennenlern-Doppelturnier auf der Anlage der Turnerschaft Innsbruck ein! \nEgal\, ob langjähriges Vereinsmitglied oder frisch dabei – alle erwachsenen Spielerinnen und Spieler sind herzlich willkommen. Die Teams werden immer wieder durchgemischt\, sodass ihr viele neue Spielpartner kennenlernen könnt. \nKeine Anmeldung erforderlich – einfach vorbeikommen\, mitspielen und Spaß haben! \n📍 Wichtig: Das Turnier findet nur bei Schönwetter statt. 🌞🎾 Wir freuen uns auf euch!
URL:https://www.ti-sports.tirol/event/eroeffnungsdoppelturnier/
LOCATION:Turnerschaft Innsbruck TI Tennis\, Wiesengasse 20\, Innsbruck\, 6020\, Österreich
CATEGORIES:Tennis
ATTACH;FMTTYPE=image/jpeg:https://www.ti-sports.tirol/wp-content/uploads/2021/11/Vereinsmeisterschaft-2020-45.jpeg
ORGANIZER;CN="Karin%20Zangerl":MAILTO:tennis@ti-sports.tirol
END:VEVENT
END:VCALENDAR