BEGIN:VCALENDAR
VERSION:2.0
PRODID:-//Turnerschaft Innsbruck - ECPv6.0.1//NONSGML v1.0//EN
CALSCALE:GREGORIAN
METHOD:PUBLISH
X-ORIGINAL-URL:https://www.ti-sports.tirol
X-WR-CALDESC:Events for Turnerschaft Innsbruck
REFRESH-INTERVAL;VALUE=DURATION:PT1H
X-Robots-Tag:noindex
X-PUBLISHED-TTL:PT1H
BEGIN:VTIMEZONE
TZID:UTC
BEGIN:STANDARD
TZOFFSETFROM:+0000
TZOFFSETTO:+0000
TZNAME:UTC
DTSTART:20260101T000000
END:STANDARD
END:VTIMEZONE
BEGIN:VEVENT
DTSTART;TZID=UTC:20260803T083000
DTEND;TZID=UTC:20260807T120000
DTSTAMP:20260424T155259
CREATED:20240109T184629Z
LAST-MODIFIED:20240109T184629Z
UID:18105-1785745800-1786104000@www.ti-sports.tirol
SUMMARY:Sommertenniscamp für Kinder MO - FR
DESCRIPTION:Auch heuer finden in den Sommerferien wieder die beliebten und gut besuchten Sommercamps der TI Turnerschaft Innsbruck statt. Die Kinderbetreuung während der Sommerferien stellt viele Eltern vor eine große Herausforderung. Aus diesem Grunde bieten sich zur Freizeitgestaltung der Kinder die sieben Sommercamps perfekt an! \nAllgemeine Infos \n\nMo – Fr von 08:30 – 12:00 Uhr\n9 Camps von KW 29 – KW 37\nFür Kinder von 5 – 18 Jahren\nFür jedes Spielniveau\nGruppeneinteilung erfolgt nach Alter bzw. Spielstärke\nAlle Trainingseinheiten werden von fachspezifisch geschulten Coaches und Turnierspielern durchgeführt\n€ 220 pro Kind pro Camp\n\n–> Hier sind alle Infos und Anmeldemöglichkeiten zusammengefasst! \n 
URL:https://www.ti-sports.tirol/event/tennissommercamps-fuer-kinder/2026-08-03/
LOCATION:Turnerschaft Innsbruck TI Tennis\, Wiesengasse 20\, Innsbruck\, 6020\, Österreich
CATEGORIES:Tennis
ATTACH;FMTTYPE=image/jpeg:https://www.ti-sports.tirol/wp-content/uploads/2025/02/tennis-sommercamp-2025.jpg
ORGANIZER;CN="Mag.%20Hartmut%20M%C3%BCller":MAILTO:hello@spieltennis.com
END:VEVENT
BEGIN:VEVENT
DTSTART;TZID=UTC:20260810T083000
DTEND;TZID=UTC:20260814T120000
DTSTAMP:20260424T155259
CREATED:20240109T184629Z
LAST-MODIFIED:20240109T184629Z
UID:18106-1786350600-1786708800@www.ti-sports.tirol
SUMMARY:Sommertenniscamp für Kinder MO - FR
DESCRIPTION:Auch heuer finden in den Sommerferien wieder die beliebten und gut besuchten Sommercamps der TI Turnerschaft Innsbruck statt. Die Kinderbetreuung während der Sommerferien stellt viele Eltern vor eine große Herausforderung. Aus diesem Grunde bieten sich zur Freizeitgestaltung der Kinder die sieben Sommercamps perfekt an! \nAllgemeine Infos \n\nMo – Fr von 08:30 – 12:00 Uhr\n9 Camps von KW 29 – KW 37\nFür Kinder von 5 – 18 Jahren\nFür jedes Spielniveau\nGruppeneinteilung erfolgt nach Alter bzw. Spielstärke\nAlle Trainingseinheiten werden von fachspezifisch geschulten Coaches und Turnierspielern durchgeführt\n€ 220 pro Kind pro Camp\n\n–> Hier sind alle Infos und Anmeldemöglichkeiten zusammengefasst! \n 
URL:https://www.ti-sports.tirol/event/tennissommercamps-fuer-kinder/2026-08-10/
LOCATION:Turnerschaft Innsbruck TI Tennis\, Wiesengasse 20\, Innsbruck\, 6020\, Österreich
CATEGORIES:Tennis
ATTACH;FMTTYPE=image/jpeg:https://www.ti-sports.tirol/wp-content/uploads/2025/02/tennis-sommercamp-2025.jpg
ORGANIZER;CN="Mag.%20Hartmut%20M%C3%BCller":MAILTO:hello@spieltennis.com
END:VEVENT
BEGIN:VEVENT
DTSTART;TZID=UTC:20260817T083000
DTEND;TZID=UTC:20260821T120000
DTSTAMP:20260424T155259
CREATED:20240109T184629Z
LAST-MODIFIED:20240109T184629Z
UID:18107-1786955400-1787313600@www.ti-sports.tirol
SUMMARY:Sommertenniscamp für Kinder MO - FR
DESCRIPTION:Auch heuer finden in den Sommerferien wieder die beliebten und gut besuchten Sommercamps der TI Turnerschaft Innsbruck statt. Die Kinderbetreuung während der Sommerferien stellt viele Eltern vor eine große Herausforderung. Aus diesem Grunde bieten sich zur Freizeitgestaltung der Kinder die sieben Sommercamps perfekt an! \nAllgemeine Infos \n\nMo – Fr von 08:30 – 12:00 Uhr\n9 Camps von KW 29 – KW 37\nFür Kinder von 5 – 18 Jahren\nFür jedes Spielniveau\nGruppeneinteilung erfolgt nach Alter bzw. Spielstärke\nAlle Trainingseinheiten werden von fachspezifisch geschulten Coaches und Turnierspielern durchgeführt\n€ 220 pro Kind pro Camp\n\n–> Hier sind alle Infos und Anmeldemöglichkeiten zusammengefasst! \n 
URL:https://www.ti-sports.tirol/event/tennissommercamps-fuer-kinder/2026-08-17/
LOCATION:Turnerschaft Innsbruck TI Tennis\, Wiesengasse 20\, Innsbruck\, 6020\, Österreich
CATEGORIES:Tennis
ATTACH;FMTTYPE=image/jpeg:https://www.ti-sports.tirol/wp-content/uploads/2025/02/tennis-sommercamp-2025.jpg
ORGANIZER;CN="Mag.%20Hartmut%20M%C3%BCller":MAILTO:hello@spieltennis.com
END:VEVENT
BEGIN:VEVENT
DTSTART;TZID=UTC:20260824T083000
DTEND;TZID=UTC:20260828T120000
DTSTAMP:20260424T155259
CREATED:20240109T184629Z
LAST-MODIFIED:20240109T184629Z
UID:18108-1787560200-1787918400@www.ti-sports.tirol
SUMMARY:Sommertenniscamp für Kinder MO - FR
DESCRIPTION:Auch heuer finden in den Sommerferien wieder die beliebten und gut besuchten Sommercamps der TI Turnerschaft Innsbruck statt. Die Kinderbetreuung während der Sommerferien stellt viele Eltern vor eine große Herausforderung. Aus diesem Grunde bieten sich zur Freizeitgestaltung der Kinder die sieben Sommercamps perfekt an! \nAllgemeine Infos \n\nMo – Fr von 08:30 – 12:00 Uhr\n9 Camps von KW 29 – KW 37\nFür Kinder von 5 – 18 Jahren\nFür jedes Spielniveau\nGruppeneinteilung erfolgt nach Alter bzw. Spielstärke\nAlle Trainingseinheiten werden von fachspezifisch geschulten Coaches und Turnierspielern durchgeführt\n€ 220 pro Kind pro Camp\n\n–> Hier sind alle Infos und Anmeldemöglichkeiten zusammengefasst! \n 
URL:https://www.ti-sports.tirol/event/tennissommercamps-fuer-kinder/2026-08-24/
LOCATION:Turnerschaft Innsbruck TI Tennis\, Wiesengasse 20\, Innsbruck\, 6020\, Österreich
CATEGORIES:Tennis
ATTACH;FMTTYPE=image/jpeg:https://www.ti-sports.tirol/wp-content/uploads/2025/02/tennis-sommercamp-2025.jpg
ORGANIZER;CN="Mag.%20Hartmut%20M%C3%BCller":MAILTO:hello@spieltennis.com
END:VEVENT
END:VCALENDAR