BEGIN:VCALENDAR
VERSION:2.0
PRODID:-//Turnerschaft Innsbruck - ECPv6.0.1//NONSGML v1.0//EN
CALSCALE:GREGORIAN
METHOD:PUBLISH
X-ORIGINAL-URL:https://www.ti-sports.tirol
X-WR-CALDESC:Events for Turnerschaft Innsbruck
REFRESH-INTERVAL;VALUE=DURATION:PT1H
X-Robots-Tag:noindex
X-PUBLISHED-TTL:PT1H
BEGIN:VTIMEZONE
TZID:UTC
BEGIN:STANDARD
TZOFFSETFROM:+0000
TZOFFSETTO:+0000
TZNAME:UTC
DTSTART:20260101T000000
END:STANDARD
END:VTIMEZONE
BEGIN:VEVENT
DTSTART;TZID=UTC:20260404T100000
DTEND;TZID=UTC:20260404T120000
DTSTAMP:20260425T183944
CREATED:20260310T164638Z
LAST-MODIFIED:20260310T164820Z
UID:18095-1775296800-1775304000@www.ti-sports.tirol
SUMMARY:Schlägertesten
DESCRIPTION:Lust\, einen neuen Tennisschläger auszuprobieren? Am Samstag\, den 04.04.2026\, hast du dazu die perfekte Gelegenheit. Von 10:00 bis ca. 12:00 Uhr findet bei Schönwetter ein Schlägertest mit Aktionen vom Tennisproshop am Tennisplatz statt. Verschiedene Modelle können direkt vor Ort ausprobiert werden – so spürst du sofort\, welcher Schläger zu deinem Spiel passt. Schau vorbei\, teste dich durch und hol dir Tipps vom Profi.
URL:https://www.ti-sports.tirol/event/schlaegertesten/
LOCATION:Turnerschaft Innsbruck TI Tennis\, Wiesengasse 20\, Innsbruck\, 6020\, Österreich
CATEGORIES:Tennis
ATTACH;FMTTYPE=image/jpeg:https://www.ti-sports.tirol/wp-content/uploads/2025/10/Schnappschuesse-2025-63.jpg
END:VEVENT
BEGIN:VEVENT
DTSTART;VALUE=DATE:20260418
DTEND;VALUE=DATE:20260420
DTSTAMP:20260425T183944
CREATED:20250206T213908Z
LAST-MODIFIED:20260211T000359Z
UID:9742-1776470400-1776643199@www.ti-sports.tirol
SUMMARY:1. Kastner Tennis Jugendcup
DESCRIPTION:Das 1. Turnier der 3-teiligen Cup Serie „Kastner Tennis Jugendcup 2026“ findet vom \n18.04. – 19.04.2026\nin der Turnerschaft Innsbruck statt. Kinder in den Altersgruppen U09 (orange)/U11 (green) /U13/U15 können sich beim Turnier messen. Eingeladen sind nicht nur junge Turnierspieler\, sondern besonders auch alle Hobbyspieler! Jedes Kind erhält coole Preise. \nNenngeld: \n€ 15\,00 pro Teilnehmer. Jedes Kind erhält ein Sackerl mit coolen Preisen. \nNeuer Spielmodus: \nGruppenspiele\, 2-3 Spiele pro Spieler/in kompakt an nur einem Turniertag! \nAnmeldung: \nunter www.tennistirol.at \nBei Fragen wendet euch bitte an Karin Zangerl +43 650 5597957 \nAnreise: \nBeachtet bitte die tollen Möglichkeiten den öffentlichen Anreise. Buslinie K hält direkt vor unserer Anlage. Linien M\, J\, TS\, T\, 1 und 6 halten in unmittelbarer Nähe. Vor Ort sind sich genügend Fahrradabstellplätze vorhanden. \nAuszeichnung als GREEN EVENT TIROL basic: \nWir sind stolz darauf\, dass das 1. Turnier vom Kastner Tennis Jugendcup bereits 2x als Green Event Tirol ausgezeichnet wurde. Für 2026 werden wir wieder die Zertifizierung anstreben. \nMehr Informationen zum Kastner Tennis Jugendcup
URL:https://www.ti-sports.tirol/event/1-kastner-tennis-jugendcup/
LOCATION:Turnerschaft Innsbruck TI Tennis\, Wiesengasse 20\, Innsbruck\, 6020\, Österreich
CATEGORIES:Tennis
ATTACH;FMTTYPE=image/jpeg:https://www.ti-sports.tirol/wp-content/uploads/2024/02/Kastnercup-2024.jpg
ORGANIZER;CN="Karin%20Zangerl":MAILTO:tennis@ti-sports.tirol
END:VEVENT
BEGIN:VEVENT
DTSTART;TZID=UTC:20260424T150000
DTEND;TZID=UTC:20260424T180000
DTSTAMP:20260425T183944
CREATED:20250201T100000Z
LAST-MODIFIED:20260211T000541Z
UID:9747-1777042800-1777053600@www.ti-sports.tirol
SUMMARY:Kennenlerndoppelturnier
DESCRIPTION:Lust auf Tennis und neue Bekanntschaften? \nAm 24. April 2026 laden wir euch um 15:00 Uhr zu einem lockeren Kennenlern-Doppelturnier auf der Anlage der Turnerschaft Innsbruck ein! \nEgal\, ob langjähriges Vereinsmitglied oder frisch dabei – alle erwachsenen Spielerinnen und Spieler sind herzlich willkommen. Die Teams werden immer wieder durchgemischt\, sodass ihr viele neue Spielpartner kennenlernen könnt. \nKeine Anmeldung erforderlich – einfach vorbeikommen\, mitspielen und Spaß haben! \n📍 Wichtig: Das Turnier findet nur bei Schönwetter statt. 🌞🎾 Wir freuen uns auf euch!
URL:https://www.ti-sports.tirol/event/eroeffnungsdoppelturnier/
LOCATION:Turnerschaft Innsbruck TI Tennis\, Wiesengasse 20\, Innsbruck\, 6020\, Österreich
CATEGORIES:Tennis
ATTACH;FMTTYPE=image/jpeg:https://www.ti-sports.tirol/wp-content/uploads/2021/11/Vereinsmeisterschaft-2020-45.jpeg
ORGANIZER;CN="Karin%20Zangerl":MAILTO:tennis@ti-sports.tirol
END:VEVENT
END:VCALENDAR